BEGIN:VCALENDAR
VERSION:2.0
PRODID:-//ChamberMaster//Event Calendar 2.0//EN
METHOD:PUBLISH
X-PUBLISHED-TTL:P3D
REFRESH-INTERVAL:P3D
CALSCALE:GREGORIAN
BEGIN:VEVENT
DTSTART:20190319T133000Z
DTEND:20190319T153000Z
X-MICROSOFT-CDO-ALLDAYEVENT:FALSE
SUMMARY:St. Patrick's Day topics
DESCRIPTION:Dr. Dermot Quinn\, Professor and Director of Graduate Studies at Seton Hall University\, discussed last year at the Summit Old Guard\, the diaspora of the Irish to New Jersey. This year he will continue speaking about some special interests with the Irish and Ireland. The meeting will be held at the New Providence Municipal Building starting at 9.30 am until 1.30 am. Guests are welcome
X-ALT-DESC;FMTTYPE=text/html:Dr. Dermot Quinn\, Professor and Director of Graduate Studies at Seton Hall University\, discussed last year at the Summit Old Guard\, the diaspora of the Irish to New Jersey. This year he will continue speaking about some special interests with the Irish and Ireland. The meeting will be held at the New Providence Municipal Building starting at 9.30 am until 1.30 am. Guests are welcome
LOCATION:New Providence Municipal Building
UID:e.870.15278
SEQUENCE:3
DTSTAMP:20260420T034442Z
URL:https://business.suburbanchambers.org/events/details/st-patrick-s-day-topics-15278
END:VEVENT

END:VCALENDAR
