BEGIN:VCALENDAR
VERSION:2.0
PRODID:-//ChamberMaster//Event Calendar 2.0//EN
METHOD:PUBLISH
X-PUBLISHED-TTL:P3D
REFRESH-INTERVAL:P3D
CALSCALE:GREGORIAN
BEGIN:VEVENT
DTSTART:20190326T133000Z
DTEND:20190326T153000Z
X-MICROSOFT-CDO-ALLDAYEVENT:FALSE
SUMMARY:Sports Trivia-Part 2
DESCRIPTION:Mr. Joseph S. Gyenes\, educator\, basketball referee and trivia expert\, spoke at an Old Guard meeting in 2017. At this meeting his topic was 'Sports Trivia with a Personal Touch'. At today's meeting he will continue his enjoyable discussion with more sports stories and information which we probably have never heard. Guests are welcome.
X-ALT-DESC;FMTTYPE=text/html:Mr. Joseph S. Gyenes\, educator\, basketball referee and trivia expert\, spoke at an Old Guard meeting in 2017. At this meeting his topic was &lsquo\;Sports Trivia with a Personal Touch&rsquo\;. At today&rsquo\;s meeting he will continue his enjoyable discussion with more sports stories and information which we probably have never heard. Guests are welcome.
LOCATION:New Providence Municipal Building
UID:e.870.15279
SEQUENCE:3
DTSTAMP:20260420T041846Z
URL:https://business.suburbanchambers.org/events/details/sports-trivia-part-2-15279
END:VEVENT

END:VCALENDAR
