BEGIN:VCALENDAR
VERSION:2.0
PRODID:-//ChamberMaster//Event Calendar 2.0//EN
METHOD:PUBLISH
X-PUBLISHED-TTL:P3D
REFRESH-INTERVAL:P3D
CALSCALE:GREGORIAN
BEGIN:VEVENT
DTSTART:20190310T140000Z
DTEND:20190310T153000Z
X-MICROSOFT-CDO-ALLDAYEVENT:FALSE
SUMMARY:Spin to Save Lives Event
DESCRIPTION:Join us for a fun indoor ride or to socialize and learn more about NJ Sharing Network's lifesaving mission. All area residents are welcome!!! K Primary Care & Medical Nutrition Center Tracy Baitinger \, MSW\,CHWC Nutrition & Wellness Coach Pre & Post fueling your body for better rides\; Hydration as an important factor to better riding\, weekly nutrition
X-ALT-DESC;FMTTYPE=text/html:Join us for a fun indoor ride or to socialize and learn more about NJ Sharing Network&rsquo\;s lifesaving mission. All area residents are welcome!!! K Primary Care &amp\; Medical Nutrition Center Tracy Baitinger \, MSW\,CHWC Nutrition &amp\; Wellness Coach Pre &amp\; Post fueling your body for better rides\; Hydration as an important factor to better riding\, weekly nutrition
LOCATION:Summit YMCA 67 Maple Street Summit NJ 07901
UID:e.870.14863
SEQUENCE:3
DTSTAMP:20260420T073706Z
URL:https://business.suburbanchambers.org/events/details/spin-to-save-lives-event-14863
END:VEVENT

END:VCALENDAR
