BEGIN:VCALENDAR
VERSION:2.0
PRODID:-//ChamberMaster//Event Calendar 2.0//EN
METHOD:PUBLISH
X-PUBLISHED-TTL:P3D
REFRESH-INTERVAL:P3D
CALSCALE:GREGORIAN
BEGIN:VEVENT
DTSTART:20181115T223000Z
DTEND:20181116T003000Z
X-MICROSOFT-CDO-ALLDAYEVENT:FALSE
SUMMARY:Speed Networking! - POSTPONED- WILL BE HELD IN APRIL!
DESCRIPTION:THINK YOU DON'T HAVE TIME TO ATTEND A NETWORKING EVENT? THINK AGAIN!\n\nSpeed Networking is the method to make new connections in a fun\, fast and highly-effective way.\n\nWhat to expect:\n\n-Participants are paired up for a series of exchanges with up to 39 other attendees\n\n-You?ll each give your 30-second introduction (Be prepared!)\n\n-Exchange business cards and schedule as many One-2-One follow ups as you want
X-ALT-DESC;FMTTYPE=text/html:THINK YOU DON&#39\;T HAVE TIME TO ATTEND A NETWORKING EVENT? THINK AGAIN!<br />\nSpeed Networking is the method to make new connections in a fun\, fast and highly-effective way.<br />\nWhat to expect:<br />\n-Participants are paired up for a series of exchanges with up to 39 other attendees<br />\n-You?ll each give your 30-second introduction (Be prepared!)<br />\n-Exchange business cards and schedule as many One-2-One follow ups as you want
LOCATION:Grand Summit Hotel 570 Springfield Avenue Summit\, NJ
UID:e.870.14711
SEQUENCE:3
DTSTAMP:20260420T183115Z
URL:https://business.suburbanchambers.org/events/details/speed-networking-postponed-will-be-held-in-april-14711
END:VEVENT

END:VCALENDAR
