BEGIN:VCALENDAR
VERSION:2.0
PRODID:-//ChamberMaster//Event Calendar 2.0//EN
METHOD:PUBLISH
X-PUBLISHED-TTL:P3D
REFRESH-INTERVAL:P3D
CALSCALE:GREGORIAN
BEGIN:VEVENT
DTSTART:20181207T231500Z
DTEND:20181208T001500Z
X-MICROSOFT-CDO-ALLDAYEVENT:FALSE
SUMMARY:Sound Healing Yoga at the Berkeley Heights YMCA
DESCRIPTION:Tune out from the world\, forget your troubles and decompress with us during "Gentle Yoga and Sound Healing Meditation." These calming sounds will enter your mind and body and transport you to a harmonious state of deep relaxation. GENTLE YOGA AND SOUND HEALING MEDITATION At the Summit Area YMCA\, we offer Mind & Body classes for all levels every day of the week. These include: Mediation\, Pilates\, Hatha-Flow Yoga\, Vinyassa Yoga and so much more! See our website schedule to find the class that's right for you.
X-ALT-DESC;FMTTYPE=text/html:Tune out from the world\, forget your troubles and decompress with us during &quot\;Gentle Yoga and Sound Healing Meditation.&quot\; These calming sounds will enter your mind and body and transport you to a harmonious state of deep relaxation. GENTLE YOGA AND SOUND HEALING MEDITATION At the Summit Area YMCA\, we offer Mind &amp\; Body classes for all levels every day of the week. These include: Mediation\, Pilates\, Hatha-Flow Yoga\, Vinyassa Yoga and so much more! See our website schedule to find the class that&#39\;s right for you.
LOCATION:Berkeley Heights YMCA 550 Springfield Avenue Berkeley Heights\, NJ 07922
UID:e.870.14532
SEQUENCE:3
DTSTAMP:20260420T191152Z
URL:https://business.suburbanchambers.org/events/details/sound-healing-yoga-at-the-berkeley-heights-ymca-14532
END:VEVENT

END:VCALENDAR
