BEGIN:VCALENDAR
VERSION:2.0
PRODID:-//ChamberMaster//Event Calendar 2.0//EN
METHOD:PUBLISH
X-PUBLISHED-TTL:P3D
REFRESH-INTERVAL:P3D
CALSCALE:GREGORIAN
BEGIN:VEVENT
DTSTART;VALUE=DATE:20221009
DTEND;VALUE=DATE:20221010
TRANSP:TRANSPARENT
X-MICROSOFT-CDO-ALLDAYEVENT:TRUE
SUMMARY:Soft Animals - Mainstage Production @ Vivid Stage
DESCRIPTION:Soft Animals\n\nby Erin Mallon\n\nMainstage Production | Professional Premiere\n\nSeptember 29\, 30 and October 1 @ 8PM\,\n\nOct. 2 @ 2PM\,\n\nOctober 6\, 7 & 8 @ 8PM\,\n\nOctober 9 @ 2PM\n\n \n\nSoft Animals is a comedy with heart that asks\, what would your life be like if you couldn't feel physical pain? If your body had a mind of its own? What if you never fell asleep? How about if you remembered every single thing you've ever felt\, thought or experienced? Four medical misfits sign up for a three-day workshop to tackle their issues. Can a former male nurse and self-professed "woo-woo" guide them toward healing? Or  perhaps they aren't the ones most in need of a cure.\n\n \n\nPurchase tickets HERE: https://www.vividstage.org/soft-animals-erin-mallon\n\n \n\nCast & Creative Team\n\nCast:\n\nDarin F. Earl II\n\nDaria M. Sullivan*\n\nJason Szamreta* \n\nEmaline Williams* \n\nStephanie Windland\n\nChristopher Young \n\n \n\nDirector: Laura Ekstrand\n\nAssistant Director/Choreographer: James Williams\n\nStage Manager: Scott McGowan* \n\nAssistant Stage Manager: Miranda Rhode\n\nSet Designer: Zach Pizza\n\nLighting designer: Zach Pizza\n\nSound designer: Jeff Knapp\n\nStage Properties: Danielle Pietrowski\n\nPlaywright: Erin Mallon\n\n \n\n* member of the Vivid Stage ensemble\n\n  member of the Actors' Equity\n\n\n\n \n\nGeneral: $39\n\nSeniors (65+): $34\n\nStudents (25-): $25\n\nPreview Performance: Thursday\, September 29: All seats $25\n\nSenior Sunday: Sunday\, October 1:\n\nAll seniors $25\n\nTICKETS: https://www.vividstage.org/soft-animals-erin-mallon\n\n \n\nYoung Professionals Reception\n\nThursday\, October 6 at 7:00 pm\n\n$15 add-on to your ticket\n\n \n\nCome early to the show and sample the craft beer from our local Summit brewery\, Bull n Bear. Enjoy some snacks while hanging out with your friends\, old or new!
X-ALT-DESC;FMTTYPE=text/html:<p><strong>Soft Animals</strong></p>\n\n<p>by Erin Mallon</p>\n\n<p>Mainstage Production | Professional Premiere</p>\n\n<p>September 29\, 30 and&nbsp\;October&nbsp\;1 @ 8PM\,<br />\nOct. 2 @ 2PM\,<br />\nOctober 6\, 7 &amp\; 8 @ 8PM\,<br />\nOctober 9 @ 2PM<br />\n&nbsp\;</p>\n\n<p><em>Soft Animals&nbsp\;is a comedy with heart that asks\, what would your life be like if you couldn&rsquo\;t feel physical pain? If your body had a mind of its own? What if you never fell asleep? How about if you remembered every single thing you&rsquo\;ve ever felt\, thought or experienced? Four medical misfits sign up for a three-day workshop to tackle their issues. Can a former male nurse and self-professed &ldquo\;woo-woo&rdquo\; guide them toward healing? Or&hellip\; perhaps they aren&rsquo\;t the ones most in need of a cure.</em></p>\n\n<p>&nbsp\;</p>\n\n<p><span style="color:#000000">Purchase tickets HERE:&nbsp\;<a href="https://www.vividstage.org/soft-animals-erin-mallon">https://www.vividstage.org/soft-animals-erin-mallon</a></span></p>\n\n<p>&nbsp\;</p>\n\n<p>Cast &amp\; Creative Team</p>\n\n<p>Cast:</p>\n\n<p>Darin F. Earl II</p>\n\n<p>Daria M. Sullivan*</p>\n\n<p>Jason Szamreta*&dagger\;</p>\n\n<p>Emaline Williams*&dagger\;</p>\n\n<p>Stephanie Windland</p>\n\n<p>Christopher Young&dagger\;</p>\n\n<p>&nbsp\;</p>\n\n<p>Director: Laura Ekstrand</p>\n\n<p>Assistant Director/Choreographer: James Williams</p>\n\n<p>Stage Manager:&nbsp\;Scott McGowan*&dagger\;</p>\n\n<p>Assistant Stage Manager:&nbsp\;Miranda Rhode</p>\n\n<p>Set Designer:&nbsp\;Zach Pizza</p>\n\n<p>Lighting designer:&nbsp\;Zach Pizza</p>\n\n<p>Sound designer:&nbsp\;Jeff Knapp</p>\n\n<p>Stage Properties:&nbsp\;Danielle Pietrowski</p>\n\n<p>Playwright: Erin Mallon</p>\n\n<p>&nbsp\;</p>\n\n<p>* member of the Vivid Stage ensemble</p>\n\n<p>&dagger\;&nbsp\;member of the Actors&#39\; Equity</p>\n\n<p><br />\n&nbsp\;</p>\n\n<p>General:&nbsp\;$39</p>\n\n<p>Seniors (65+):&nbsp\;$34</p>\n\n<p>Students (25-):&nbsp\;$25</p>\n\n<p>Preview Performance: Thursday\, September 29:&nbsp\;All seats $25</p>\n\n<p>Senior Sunday: Sunday\, October 1:</p>\n\n<p>All seniors $25</p>\n\n<p><span style="color:#000000">TICKETS:&nbsp\;<a href="https://www.vividstage.org/soft-animals-erin-mallon">https://www.vividstage.org/soft-animals-erin-mallon</a></span></p>\n\n<p>&nbsp\;</p>\n\n<p>Young Professionals Reception</p>\n\n<p>Thursday\, October 6 at 7:00 pm</p>\n\n<p>$15 add-on to your ticket</p>\n\n<p>&nbsp\;</p>\n\n<p>Come early to the show and sample the craft beer from our local Summit brewery\, Bull n Bear. Enjoy some snacks while hanging out with your friends\, old or new!</p>\n
LOCATION:Oakes Center 120 Morris Avenue Summit\, NJ 07901
UID:e.870.17656
SEQUENCE:3
DTSTAMP:20260422T092516Z
URL:https://business.suburbanchambers.org/events/details/soft-animals-mainstage-production-vivid-stage-10-09-2022-17656
END:VEVENT

END:VCALENDAR
