BEGIN:VCALENDAR
VERSION:2.0
PRODID:-//ChamberMaster//Event Calendar 2.0//EN
METHOD:PUBLISH
X-PUBLISHED-TTL:P3D
REFRESH-INTERVAL:P3D
CALSCALE:GREGORIAN
BEGIN:VEVENT
DTSTART:20190504T140000Z
DTEND:20190504T153000Z
X-MICROSOFT-CDO-ALLDAYEVENT:FALSE
SUMMARY:Soapmaking
DESCRIPTION:Hilda Bahner will teach melt-and-pour soapmaking and discuss the origins of soap. Make 2 or 3 bars of soap to take home. This free program was made possible by the Friends of the New Providence Memorial Library. Registration is required. Register online at https://register.communitypass.net/newprovidence
X-ALT-DESC;FMTTYPE=text/html:Hilda Bahner will teach melt-and-pour soapmaking and discuss the origins of soap. Make 2 or 3 bars of soap to take home. This free program was made possible by the Friends of the New Providence Memorial Library. Registration is required. Register online at https://register.communitypass.net/newprovidence
LOCATION:New Providence Memorial Library
UID:e.870.15413
SEQUENCE:3
DTSTAMP:20260419T185822Z
URL:https://business.suburbanchambers.org/events/details/soapmaking-15413
END:VEVENT

END:VCALENDAR
