BEGIN:VCALENDAR
VERSION:2.0
PRODID:-//ChamberMaster//Event Calendar 2.0//EN
METHOD:PUBLISH
X-PUBLISHED-TTL:P3D
REFRESH-INTERVAL:P3D
CALSCALE:GREGORIAN
BEGIN:VEVENT
DTSTART:20180922T130000Z
DTEND:20180922T160000Z
X-MICROSOFT-CDO-ALLDAYEVENT:FALSE
SUMMARY:Slam Dunk The Junk - Berkeley Heights Clean Up Day!
DESCRIPTION:Local organizations and residents are invited to help clean up litter in public areas in Berkeley Heights.  Participants are invited back afterwards for hot dogs\, drinks and games!
X-ALT-DESC;FMTTYPE=text/html:Local organizations and residents are invited to help clean up litter in public areas in Berkeley Heights.&nbsp\; Participants are invited back afterwards for hot dogs\, drinks and games!
LOCATION:110 Rosevelt Avenue (Little Flower parking lot)\, Berkeley Heights
UID:e.870.14385
SEQUENCE:3
DTSTAMP:20260421T010328Z
URL:https://business.suburbanchambers.org/events/details/slam-dunk-the-junk-berkeley-heights-clean-up-day-14385
END:VEVENT

END:VCALENDAR
