BEGIN:VCALENDAR
VERSION:2.0
PRODID:-//ChamberMaster//Event Calendar 2.0//EN
METHOD:PUBLISH
X-PUBLISHED-TTL:P3D
REFRESH-INTERVAL:P3D
CALSCALE:GREGORIAN
BEGIN:VEVENT
DTSTART:20190429T180000Z
DTEND:20190429T200000Z
X-MICROSOFT-CDO-ALLDAYEVENT:FALSE
SUMMARY:Skype Basics
DESCRIPTION:Skype is a free internet voice and video call service. Learn how to use Skype to make video call from your computer or mobile device. Skype is great for talking to far-off grandchildren or other family members.
X-ALT-DESC;FMTTYPE=text/html:Skype is a free internet voice and video call service. Learn how to use Skype to make video call from your computer or mobile device. Skype is great for talking to far-off grandchildren or other family members.
LOCATION:New Providence Memorial Library
UID:e.870.15366
SEQUENCE:3
DTSTAMP:20260419T230501Z
URL:https://business.suburbanchambers.org/events/details/skype-basics-15366
END:VEVENT

END:VCALENDAR
