BEGIN:VCALENDAR
VERSION:2.0
PRODID:-//ChamberMaster//Event Calendar 2.0//EN
METHOD:PUBLISH
X-PUBLISHED-TTL:P3D
REFRESH-INTERVAL:P3D
CALSCALE:GREGORIAN
BEGIN:VEVENT
DTSTART:20190114T203000Z
DTEND:20190114T213000Z
X-MICROSOFT-CDO-ALLDAYEVENT:FALSE
SUMMARY:ShopRite Nutrition for Kids
DESCRIPTION:Join us for some fun activities and a healthy snack assembly with retail dietitian Michelle Sweeney from ShopRite of Stirling. Free to attend\, pre-registration required.
X-ALT-DESC;FMTTYPE=text/html:Join us for some fun activities and a healthy snack assembly with retail dietitian Michelle Sweeney from ShopRite of Stirling. Free to attend\, pre-registration required.
LOCATION:New Providence Memorial Library
UID:e.870.15200
SEQUENCE:3
DTSTAMP:20260420T144118Z
URL:https://business.suburbanchambers.org/events/details/shoprite-nutrition-for-kids-15200
END:VEVENT

END:VCALENDAR
