BEGIN:VCALENDAR
VERSION:2.0
PRODID:-//ChamberMaster//Event Calendar 2.0//EN
METHOD:PUBLISH
X-PUBLISHED-TTL:P3D
REFRESH-INTERVAL:P3D
CALSCALE:GREGORIAN
BEGIN:VEVENT
DTSTART:20180501T230000Z
DTEND:20180502T003000Z
X-MICROSOFT-CDO-ALLDAYEVENT:FALSE
SUMMARY:Shade Perennials for NJ Gardens at Reeves-Reed Arboretum
DESCRIPTION:Many gardeners and homeowners in suburban New Jersey face dual challenges: gardening under a mature canopy and trying to introduce native plants into their gardens. RRA Director of Horticulture Marc Montefusco will host a tour and lecture that addresses both of these issues. Reeves-Reed Arboretum has a lovely collection of shade-loving perennials\, and many of them will be at their best on May 1. Following a tour of the relevant beds and gardens\, Marc will discuss new and rare shade perennial varieties\, recommend sources\, and take questions. Registration is required.
X-ALT-DESC;FMTTYPE=text/html:Many gardeners and homeowners in suburban New Jersey face dual challenges: gardening under a mature canopy and trying to introduce native plants into their gardens. RRA Director of Horticulture Marc Montefusco will host a tour and lecture that addresses both of these issues. Reeves-Reed Arboretum has a lovely collection of shade-loving perennials\, and many of them will be at their best on May 1. Following a tour of the relevant beds and gardens\, Marc will discuss new and rare shade perennial varieties\, recommend sources\, and take questions. Registration is required.&nbsp\;
LOCATION:Reeves-Reed Arboretum 165 Hobart Ave. Summit\, Ave. 07901
UID:e.870.11783
SEQUENCE:3
DTSTAMP:20260421T133856Z
URL:https://business.suburbanchambers.org/events/details/shade-perennials-for-nj-gardens-at-reeves-reed-arboretum-11783
END:VEVENT

END:VCALENDAR
