BEGIN:VCALENDAR
VERSION:2.0
PRODID:-//ChamberMaster//Event Calendar 2.0//EN
METHOD:PUBLISH
X-PUBLISHED-TTL:P3D
REFRESH-INTERVAL:P3D
CALSCALE:GREGORIAN
BEGIN:VEVENT
DTSTART:20181210T000000Z
DTEND:20181210T010000Z
X-MICROSOFT-CDO-ALLDAYEVENT:FALSE
SUMMARY:Service of Comfort
DESCRIPTION:As we make our way to the celebration of Christ's birth\, the world fills our days with shopping and tinsel and cheerful songs floating over the radio. Amid the hurry and the excitement of these weeks\, do you need a place to spend a bit of time in quiet reflection? Do you find that\, because of circumstances in your life\, it is difficult to feel as "merry" as the season seems to invite? The Christian message of light in the darkness is more than an opportunity to decorate our homes and our lives. It is a message of hope\, comfort and strength for those who are in need. Gather for prayers\, scripture\, music\, and Holy Communion. Come and let God's Word give Light!
X-ALT-DESC;FMTTYPE=text/html:As we make our way to the celebration of Christ&#39\;s birth\, the world fills our days with shopping and tinsel and cheerful songs floating over the radio. Amid the hurry and the excitement of these weeks\, do you need a place to spend a bit of time in quiet reflection? Do you find that\, because of circumstances in your life\, it is difficult to feel as &ldquo\;merry&rdquo\; as the season seems to invite? The Christian message of light in the darkness is more than an opportunity to decorate our homes and our lives. It is a message of hope\, comfort and strength for those who are in need. Gather for prayers\, scripture\, music\, and Holy Communion. Come and let God&#39\;s Word give Light!
LOCATION:The United Methodist Church of Summit 17 Kent Place Boulevard Summit\, NJ 07901
UID:e.870.14772
SEQUENCE:3
DTSTAMP:20260420T152530Z
URL:https://business.suburbanchambers.org/events/details/service-of-comfort-12-09-2018-14772
END:VEVENT

END:VCALENDAR
