BEGIN:VCALENDAR
VERSION:2.0
PRODID:-//ChamberMaster//Event Calendar 2.0//EN
METHOD:PUBLISH
X-PUBLISHED-TTL:P3D
REFRESH-INTERVAL:P3D
CALSCALE:GREGORIAN
BEGIN:VEVENT
DTSTART:20180923T180000Z
DTEND:20180923T210000Z
X-MICROSOFT-CDO-ALLDAYEVENT:FALSE
SUMMARY:September Song: Afternoon at the Met\, Evening on Broadway
DESCRIPTION:September Song includes selections from the new season at the Metropolitan Opera\, including arias from La Boheme\, Don Giovanni\, La Traviatta\, Die Zauberfl te\, and Tosca. Singers are soprano Meryl Dominguez\, bass-baritone Eric Delagrange\, and tenor Matthew White\, all resident artists at Academy Vocal Arts in Philadelphia\, PA. Accompanist Mary Pinto\, acclaimed pianist and vocal instructor\, will perform melodies cabaret-style after intermission. The second half of the performance features musical theatre pieces inspired by the operas. Light refreshments will be served at intermission.
X-ALT-DESC;FMTTYPE=text/html:September Song includes selections from the new season at the Metropolitan Opera\, including arias from La Boheme\, Don Giovanni\, La Traviatta\, Die Zauberfl&ouml\;te\, and Tosca. Singers are soprano Meryl Dominguez\, bass-baritone Eric Delagrange\, and tenor Matthew White\, all resident artists at Academy Vocal Arts in Philadelphia\, PA. Accompanist Mary Pinto\, acclaimed pianist and vocal instructor\, will perform melodies cabaret-style after intermission. The second half of the performance features musical theatre pieces inspired by the operas. Light refreshments will be served at intermission.
LOCATION:Lenfell Hall (The Mansion) Fairleigh Dickinson University 285 Madison Ave. Madison NJ 07940
UID:e.870.14481
SEQUENCE:3
DTSTAMP:20260421T041849Z
URL:https://business.suburbanchambers.org/events/details/september-song-afternoon-at-the-met-evening-on-broadway-14481
END:VEVENT

END:VCALENDAR
