BEGIN:VCALENDAR
VERSION:2.0
PRODID:-//ChamberMaster//Event Calendar 2.0//EN
METHOD:PUBLISH
X-PUBLISHED-TTL:P3D
REFRESH-INTERVAL:P3D
CALSCALE:GREGORIAN
BEGIN:VEVENT
DTSTART:20180422T170000Z
DTEND:20180422T180000Z
X-MICROSOFT-CDO-ALLDAYEVENT:FALSE
SUMMARY:Self-Care Event
DESCRIPTION:Seeking resources to bring more peace\, more balance\, more focus to your life? It is easy to get caught up in the whirl of our busy lives\, and we risk losing touch with the things that are most important to us. The event will include tools to reflect on the things that give you meaning and balance\, and re-center your spirit for the pace of life. The event is free of charge\, but we ask that you please call the Church to register your attendance\, so that sufficient materials can be available.
X-ALT-DESC;FMTTYPE=text/html:Seeking resources to bring more peace\, more balance\, more focus to your life? It is easy to get caught up in the whirl of our busy lives\, and we risk losing touch with the things that are most important to us. The event will include tools to reflect on the things that give you meaning and balance\, and re-center your spirit for the pace of life. The event is free of charge\, but we ask that you please call the Church to register your attendance\, so that sufficient materials can be available.
LOCATION:The United Methodist Church of Summit 17 Kent Place Boulevard Summit\, NJ 07901
UID:e.870.11765
SEQUENCE:3
DTSTAMP:20260421T160434Z
URL:https://business.suburbanchambers.org/events/details/self-care-event-04-22-2018-11765
END:VEVENT

END:VCALENDAR
