BEGIN:VCALENDAR
VERSION:2.0
PRODID:-//ChamberMaster//Event Calendar 2.0//EN
METHOD:PUBLISH
X-PUBLISHED-TTL:P3D
REFRESH-INTERVAL:P3D
CALSCALE:GREGORIAN
BEGIN:VEVENT
DTSTART:20230420T160000Z
DTEND:20230420T170000Z
X-MICROSOFT-CDO-ALLDAYEVENT:FALSE
SUMMARY:SECURE Act 2.0 – What You Need To Know
DESCRIPTION:Please join Peapack Private's Dawn Brown and Michael Flynn as they highlight important changes that will impact retirement savers and retirees. In this webinar\, we'll discuss:   Major changes to the required minimum distributions (RMD) age requirements   Expanded 10% penalty exceptions for early withdrawals   Significant number of Roth related changes   And much more! Our presenters will hold a brief Q&A session at the end of the presentation. If you are unable to join the live webinar\, register using the link below and we'll send you a copy of the recorded presentation to watch at your convenience.
X-ALT-DESC;FMTTYPE=text/html:Please join Peapack Private&rsquo\;s Dawn Brown and Michael Flynn as they highlight important changes that will impact retirement savers and retirees. In this webinar\, we&rsquo\;ll discuss: &bull\; Major changes to the required minimum distributions (RMD) age requirements &bull\; Expanded 10% penalty exceptions for early withdrawals &bull\; Significant number of Roth related changes &bull\; And much more! Our presenters will hold a brief Q&amp\;A session at the end of the presentation. If you are unable to join the live webinar\, register using the link below and we&#39\;ll send you a copy of the recorded presentation to watch at your convenience.
LOCATION:Zoom
UID:e.870.18372
SEQUENCE:3
DTSTAMP:20260424T230421Z
URL:https://business.suburbanchambers.org/events/details/secure-act-2-0-what-you-need-to-know-18372
END:VEVENT

END:VCALENDAR
