BEGIN:VCALENDAR
VERSION:2.0
PRODID:-//ChamberMaster//Event Calendar 2.0//EN
METHOD:PUBLISH
X-PUBLISHED-TTL:P3D
REFRESH-INTERVAL:P3D
CALSCALE:GREGORIAN
BEGIN:VEVENT
DTSTART:20260413T130000Z
DTEND:20260413T230000Z
X-MICROSOFT-CDO-ALLDAYEVENT:FALSE
SUMMARY:SCCF Book Donations Needed
DESCRIPTION:The Summit College Club Foundation is once again seeking donations of new and gently used books and other media\, including fiction and non-fiction books\, CDs\, DVDs\, vinyl LPs\, audiobooks\, and puzzles. However\, it does not accept encyclopedias\, textbooks\, manuals\, magazines\, VHS tapes\, or any damaged or defaced items.
X-ALT-DESC;FMTTYPE=text/html:The Summit College Club Foundation is once again seeking donations of new and gently used books and other media\, including fiction and non-fiction books\, CDs\, DVDs\, vinyl LPs\, audiobooks\, and puzzles. However\, it does not accept encyclopedias\, textbooks\, manuals\, magazines\, VHS tapes\, or any damaged or defaced items.
LOCATION:American Legion Post 433 357 Elkwood Ave New Providence\, NJ
UID:e.870.19122
SEQUENCE:3
DTSTAMP:20260422T122852Z
URL:https://business.suburbanchambers.org/events/details/sccf-book-donations-needed-04-13-2026-19122
END:VEVENT

END:VCALENDAR
