BEGIN:VCALENDAR
VERSION:2.0
PRODID:-//ChamberMaster//Event Calendar 2.0//EN
METHOD:PUBLISH
X-PUBLISHED-TTL:P3D
REFRESH-INTERVAL:P3D
CALSCALE:GREGORIAN
BEGIN:VEVENT
DTSTART:20180418T163000Z
DTEND:20180418T174500Z
X-MICROSOFT-CDO-ALLDAYEVENT:FALSE
SUMMARY:SCC Lunch & Learn: Communicating For Success: Watch Your Language! With Paul Hatrak\, LIMITED SEATING\, register today!
DESCRIPTION:Paul Hatrak\, CPA\, CGMA\, Certified Business Coach\, Explains How to Better Communicate for Success\n\nCommunicating For Success: Watch Your Language!\n\nHave you ever lost an important sale or networking connection and wondered why?\n\nIt could be because you are selling and networking the same way with everyone and       not tailoring your activities to each person's behavioral style. \n\nYou could be missing as much as 75 percent of your opportunities by doing this. \n\nPaul will lead an interactive discussion that will help you understand the universal language of DISC (dominance-influence-steadiness-compliance). \n\nDISC is concerned with how we act and our way of doing things. \n\nYou will gain an understanding of your own behavioral style\, recognize the behavioral style of others\, and be able to adapt and blend your style for greater\, more effective communication and relationships (personal and professional).
X-ALT-DESC;FMTTYPE=text/html:<span style="font-size:14px\;"><span style="color:#800000\;"><strong><span style="font-family:georgia\,serif\;">Paul Hatrak\, CPA\, CGMA\, Certified Business Coach\, Explains How to Better Communicate for Success</span></strong><br />\n<strong><span style="font-family:georgia\,serif\;">Communicating For Success: Watch Your Language!</span></strong></span><br />\n<span style="font-family:arial\,sans-serif\;">Have you ever lost an important sale or networking connection and wondered why?</span><br />\n<span style="font-family:arial\,sans-serif\;">It could be because you are selling and networking the same way with everyone and&nbsp\; &nbsp\;&nbsp\;&nbsp\;&nbsp\;&nbsp\;not tailoring your activities to each person&rsquo\;s behavioral style. </span><br />\n<span style="font-family:arial\,sans-serif\;">You could be missing as much as 75 percent of your opportunities by doing this. </span><br />\n<span style="font-family:arial\,sans-serif\;">Paul will lead an interactive discussion that will help you understand the universal language of DISC (dominance-influence-steadiness-compliance). </span><br />\n<span style="font-family:arial\,sans-serif\;">DISC is concerned with how we act and our way of doing things. </span><br />\n<span style="font-family:arial\,sans-serif\;">You will gain an understanding of your own behavioral style\, recognize the behavioral style of others\, and be able to adapt and blend your style for greater\, more effective communication and relationships (personal and professional).</span></span>
LOCATION:Marco Polo Restaurant 572 Morris Avenue Summit\, NJ
UID:e.870.10695
SEQUENCE:3
DTSTAMP:20260421T161014Z
URL:https://business.suburbanchambers.org/events/details/scc-lunch-learn-communicating-for-success-watch-your-language-with-paul-hatrak-limited-seating-register-today-10695
END:VEVENT

END:VCALENDAR
