BEGIN:VCALENDAR
VERSION:2.0
PRODID:-//ChamberMaster//Event Calendar 2.0//EN
METHOD:PUBLISH
X-PUBLISHED-TTL:P3D
REFRESH-INTERVAL:P3D
CALSCALE:GREGORIAN
BEGIN:VEVENT
DTSTART:20181019T120000Z
DTEND:20181019T130000Z
X-MICROSOFT-CDO-ALLDAYEVENT:FALSE
SUMMARY:SCC/ Berkeley Heights Membership Meeting with SCC First Friday Sneak Peak!
DESCRIPTION:Free membership Networking / Workshop Meeting.  These meetings are designed to help members get to know each other better and get more connected to their community!\n\nThis month we are doing something special\, a sneak peak into our monthly First Friday Networking Breakfast at The Grand Summit Hotel!  Casey Carpenter\, who presented to a captivated audience at our September breakfast.  Guests came out with great ideas and great networking!\n\nThis month Casey will share with us:\n\nConnect More.  Pitch Less & Make Yourself Unforgettable When Networking\n\nThis mini-workshop focuses on training the brain to ask questions and listen while at networking events.  Big deals start with "small" talk.  Improve your ability to elevate curiosity about the other person!  Never feel you wasted time at a networking event again!\n\n Objectives:  \n\n	To prepare for the "handshake moment" with compelling questions\n	To learn more about the other person than we talk about ourselves\n	To make it a fun discussion\, not necessarily focusing on work\n\nCheri Pertesis will be with us as well filling us in on all things Winter Walk!  Mark your calendars now for December 1st!\n\n\n\n ALSO!  Anyone who would like to make a B2B offering to Chamber members will get an additional mini-mercial for their business with the offer!  (offering must be available only to SCC members\, not the general public)\n\nHOPE TO SEE YOU ALL THERE!
X-ALT-DESC;FMTTYPE=text/html:<span style="font-size:16px\;"><span style="color:#0000FF\;">Free membership Networking / Workshop Meeting. &nbsp\;These meetings are designed to help members get to know each other better and get more connected to their community!</span><br />\n<span style="color:#FF0000\;">This month we are doing something special\, a sneak peak into our monthly First Friday Networking Breakfast at The Grand Summit Hotel!&nbsp\; Casey Carpenter\, who presented to a captivated audience at our September breakfast.&nbsp\; Guests came out with great ideas and great networking!<br />\nThis month Casey will share with us:</span></span><br />\n<span style="color:#FF0000\;"><strong><span style="font-size:12.0pt\;">Connect More.&nbsp\; Pitch Less &amp\; Make Yourself Unforgettable When Networking</span></strong><br />\nThis mini-workshop focuses on training the brain to ask questions and listen while at networking events.&nbsp\; Big deals start with &ldquo\;small&rdquo\; talk.&nbsp\; Improve your ability to elevate curiosity about the other person!&nbsp\; Never feel you wasted time at a networking event again!<br />\n&nbsp\;<strong>Objectives:&nbsp\; </strong></span>\n<ul style="list-style-type:circle\;">\n	<li><span style="color:#FF0000\;">To prepare for the &ldquo\;handshake moment&rdquo\; with compelling questions</span></li>\n	<li><span style="color:#FF0000\;">To learn more about the other person than we talk about ourselves</span></li>\n	<li><span style="color:#FF0000\;">To make it a fun discussion\, not necessarily focusing on work</span></li>\n</ul>\n<span style="color:#0000CD\;"><span style="font-size:16px\;">Cheri Pertesis will be with us as well filling us in on all things <strong>Winter Walk</strong>!&nbsp\; Mark your calendars now for December 1st!</span></span><br />\n<br />\n<span style="font-size:16px\;"><span style="color:#FF0000\;">&nbsp\;ALSO!&nbsp\; Anyone who would like to make a B2B offering to Chamber members will get an additional mini-mercial for their business with the offer!&nbsp\; (offering must be available only to SCC members\, not the general public)</span><br />\n<span style="color:#0000CD\;"><strong>HOPE TO SEE YOU ALL THERE!</strong></span></span>
LOCATION:Berkeley Heights Town Hall 29 Park Avenue
UID:e.870.14490
SEQUENCE:3
DTSTAMP:20260420T220600Z
URL:https://business.suburbanchambers.org/events/details/scc-berkeley-heights-membership-meeting-with-scc-first-friday-sneak-peak-14490
END:VEVENT

END:VCALENDAR
