BEGIN:VCALENDAR
VERSION:2.0
PRODID:-//ChamberMaster//Event Calendar 2.0//EN
METHOD:PUBLISH
X-PUBLISHED-TTL:P3D
REFRESH-INTERVAL:P3D
CALSCALE:GREGORIAN
BEGIN:VEVENT
DTSTART:20180420T120000Z
DTEND:20180420T130000Z
X-MICROSOFT-CDO-ALLDAYEVENT:FALSE
SUMMARY:SCC/ Berkeley Heights Membership Meeting with BH Mayor and Town Council
DESCRIPTION:Please join me\, our SCC/BH team and other SCC/BH members\n\nas we welcome Mayor Bob Woodruff\, members of Town Council and other Business & Civic leaders at this open meeting\, to get a State of BH\, learn about many opportunities to grow your business and network with fellow business and civic leaders.\n\n"Real Networking & Real Opportunities"
X-ALT-DESC;FMTTYPE=text/html:<span style="font-size:14px\;">Please join me\, our SCC/BH team and other SCC/BH members<br />\nas we welcome <strong>Mayor Bob Woodruff</strong>\, members of <strong>Town Council </strong>and other Business &amp\; Civic leaders at this open meeting\, to get a <em>State of BH</em>\, learn about many opportunities to grow your business and network with fellow business and civic leaders.<br />\n<strong>&ldquo\;Real Networking &amp\; Real Opportunities&rdquo\;</strong></span><br />\n<br />\n&nbsp\;
LOCATION:Berkeley Heights Town Hall 29 Park Avenue
UID:e.870.8488
SEQUENCE:3
DTSTAMP:20260421T160920Z
URL:https://business.suburbanchambers.org/events/details/scc-berkeley-heights-membership-meeting-with-bh-mayor-and-town-council-8488
END:VEVENT

END:VCALENDAR
