BEGIN:VCALENDAR
VERSION:2.0
PRODID:-//ChamberMaster//Event Calendar 2.0//EN
METHOD:PUBLISH
X-PUBLISHED-TTL:P3D
REFRESH-INTERVAL:P3D
CALSCALE:GREGORIAN
BEGIN:VEVENT
DTSTART:20180615T120000Z
DTEND:20180615T130000Z
X-MICROSOFT-CDO-ALLDAYEVENT:FALSE
SUMMARY:SCC/ Berkeley Heights Membership Meeting
DESCRIPTION:Free membership Networking / Workshop Meeting.  These meetings are designed to help members get to know each other better and get more connected to their community!
X-ALT-DESC;FMTTYPE=text/html:<span style="font-size:16px\;"><span style="color:#0000FF\;">Free membership Networking / Workshop Meeting. &nbsp\;These meetings are designed to help members get to know each other better and get more connected to their community!</span></span><br />\n&nbsp\;
LOCATION:Berkeley Heights Town Hall 29 Park Avenue
UID:e.870.8490
SEQUENCE:3
DTSTAMP:20260421T100821Z
URL:https://business.suburbanchambers.org/events/details/scc-berkeley-heights-membership-meeting-06-15-2018-8490
END:VEVENT

END:VCALENDAR
