BEGIN:VCALENDAR
VERSION:2.0
PRODID:-//ChamberMaster//Event Calendar 2.0//EN
METHOD:PUBLISH
X-PUBLISHED-TTL:P3D
REFRESH-INTERVAL:P3D
CALSCALE:GREGORIAN
BEGIN:VEVENT
DTSTART:20221119T150000Z
DTEND:20221119T200000Z
X-MICROSOFT-CDO-ALLDAYEVENT:FALSE
SUMMARY:Scandinavian Import & Gift Sale
DESCRIPTION:Scandinavian Import & Gift Sale featuring Christmas holiday decorations. Norwegian sweaters\, linens\, tomtes\, candles\, imported foods\, and baked goods.  Only Checks & Cash accepted.
X-ALT-DESC;FMTTYPE=text/html:Scandinavian Import &amp\; Gift Sale featuring Christmas holiday decorations. Norwegian sweaters\, linens\, tomtes\, candles\, imported foods\, and baked goods.&nbsp\; Only Checks &amp\; Cash accepted.
LOCATION:Salt Brook School 40 Maple St. New Providence\, NJ 07974
UID:e.870.17650
SEQUENCE:3
DTSTAMP:20260422T060913Z
URL:https://business.suburbanchambers.org/events/details/scandinavian-import-gift-sale-11-19-2022-17650
END:VEVENT

END:VCALENDAR
