BEGIN:VCALENDAR
VERSION:2.0
PRODID:-//ChamberMaster//Event Calendar 2.0//EN
METHOD:PUBLISH
X-PUBLISHED-TTL:P3D
REFRESH-INTERVAL:P3D
CALSCALE:GREGORIAN
BEGIN:VEVENT
DTSTART:20181023T170000Z
DTEND:20181023T183000Z
X-MICROSOFT-CDO-ALLDAYEVENT:FALSE
SUMMARY:Scam Prevention for Seniors
DESCRIPTION:Older adults are too often easy targets for scammers. Officer Keith Kwiatek of the Summit Police Department will discuss how to outsmart the savviest of cons to protect yourself and your hard earned savings. Light refreshments will be served. 1:00   2:30 pm.
X-ALT-DESC;FMTTYPE=text/html:Older adults are too often easy targets for scammers. Officer Keith Kwiatek of the Summit Police Department will discuss how to outsmart the savviest of cons to protect yourself and your hard earned savings. Light refreshments will be served. 1:00 &ndash\; 2:30 pm.&nbsp\;
LOCATION:SAGE Eldercare 290 Broad Street Summit\, NJ 07901
UID:e.870.14405
SEQUENCE:3
DTSTAMP:20260420T220455Z
URL:https://business.suburbanchambers.org/events/details/scam-prevention-for-seniors-10-23-2018-14405
END:VEVENT

END:VCALENDAR
