BEGIN:VCALENDAR
VERSION:2.0
PRODID:-//ChamberMaster//Event Calendar 2.0//EN
METHOD:PUBLISH
X-PUBLISHED-TTL:P3D
REFRESH-INTERVAL:P3D
CALSCALE:GREGORIAN
BEGIN:VEVENT
DTSTART:20181217T210000Z
DTEND:20181217T230000Z
X-MICROSOFT-CDO-ALLDAYEVENT:FALSE
SUMMARY:Santa coming to New Providence Dentistry
DESCRIPTION:Come take your free photo with Santa at New Providence Dentistry! Bring your kids\, your pet and your smile:)
X-ALT-DESC;FMTTYPE=text/html:Come take your free photo with Santa at New Providence Dentistry! Bring your kids\, your pet and your smile:)
LOCATION:571 Central Ave\, Suite 100 New Providence NJ 07974
UID:e.870.14839
SEQUENCE:3
DTSTAMP:20260420T191321Z
URL:https://business.suburbanchambers.org/events/details/santa-coming-to-new-providence-dentistry-14839
END:VEVENT

END:VCALENDAR
