BEGIN:VCALENDAR
VERSION:2.0
PRODID:-//ChamberMaster//Event Calendar 2.0//EN
METHOD:PUBLISH
X-PUBLISHED-TTL:P3D
REFRESH-INTERVAL:P3D
CALSCALE:GREGORIAN
BEGIN:VEVENT
DTSTART:20221006T150000Z
DTEND:20221006T170000Z
X-MICROSOFT-CDO-ALLDAYEVENT:FALSE
SUMMARY:Santa Claus Shop Fundraiser at Vineyard Vines
DESCRIPTION:Shop & Support a Cause! Thursday\, October 6th from 11 am - 1 pm at Vineyard Vines in Short Hills. You will receive 10% off your purchase and Vineyard Vines will give 10% back to the Santa Claus Shop!
X-ALT-DESC;FMTTYPE=text/html:Shop &amp\; Support a Cause! Thursday\, October 6th from 11 am - 1 pm at Vineyard Vines in Short Hills. You will receive 10% off your purchase and Vineyard Vines will give 10% back to the Santa Claus Shop!
LOCATION:Vineyard Vines\, The Mall at Short Hills
UID:e.870.17659
SEQUENCE:3
DTSTAMP:20260422T055455Z
URL:https://business.suburbanchambers.org/events/details/santa-claus-shop-fundraiser-at-vineyard-vines-17659
END:VEVENT

END:VCALENDAR
