BEGIN:VCALENDAR
VERSION:2.0
PRODID:-//ChamberMaster//Event Calendar 2.0//EN
METHOD:PUBLISH
X-PUBLISHED-TTL:P3D
REFRESH-INTERVAL:P3D
CALSCALE:GREGORIAN
BEGIN:VEVENT
DTSTART:20181027T220000Z
DTEND:20181028T010000Z
X-MICROSOFT-CDO-ALLDAYEVENT:FALSE
SUMMARY:Salsa Masquerade
DESCRIPTION:Join us for our Annual Salsa Masquerade and dance with passionate latin music. Instruction by Special Guest Artists from NYC - Salsa\, Merengue and Cha Cha Cha. Black\, White & Red Cocktail Attire and Masks. Proceeds benefit the New Jersey Dance Theater Ensemble. Cocktails & Hors d'oeuvres.
X-ALT-DESC;FMTTYPE=text/html:Join us for our Annual Salsa Masquerade and dance with passionate latin music. Instruction by Special Guest Artists from NYC - Salsa\, Merengue and Cha Cha Cha. Black\, White &amp\; Red Cocktail Attire and Masks. Proceeds benefit the New Jersey Dance Theater Ensemble. Cocktails &amp\; Hors d&#39\;oeuvres.
LOCATION:New Jersey Dance Theater Ensemble 315B Springfield Avenue Summit\, NJ 07901
UID:e.870.14534
SEQUENCE:3
DTSTAMP:20260420T213649Z
URL:https://business.suburbanchambers.org/events/details/salsa-masquerade-14534
END:VEVENT

END:VCALENDAR
