BEGIN:VCALENDAR
VERSION:2.0
PRODID:-//ChamberMaster//Event Calendar 2.0//EN
METHOD:PUBLISH
X-PUBLISHED-TTL:P3D
REFRESH-INTERVAL:P3D
CALSCALE:GREGORIAN
BEGIN:VEVENT
DTSTART:20181010T220000Z
DTEND:20181011T013000Z
X-MICROSOFT-CDO-ALLDAYEVENT:FALSE
SUMMARY:SAGE to Host Age Out Loud Benefit
DESCRIPTION:SAGE  "We want to thank our honorees\, volunteers\, and sponsors for supporting SAGE and the vital services we provEldercare Benefit to Honor Summit Area Public Foundation\, Celgene and Al Kessler SUMMIT\, NJ   SAGE Eldercare will hold a special benefit\, Age Out Loud\, on Wednesday\, October 10th at Canoe Brook Country Club beginning at 6:00 pm. The event will honor SAGE's community partner\, Summit Area Public Foundation\, corporate partner\, Celgene and volunteer honoree\, Al Kessler. The evening benefits SAGE Eldercare\, a unique community resource that offers a comprehensive array of programs and services for older adults and caregivers\, promoting independence and quality of life. .
X-ALT-DESC;FMTTYPE=text/html:SAGE&nbsp\; &ldquo\;We want to thank our honorees\, volunteers\, and sponsors for supporting SAGE and the vital services we provEldercare Benefit to Honor Summit Area Public Foundation\, Celgene and Al Kessler SUMMIT\, NJ &ndash\; SAGE Eldercare will hold a special benefit\, Age Out Loud\, on Wednesday\, October 10th at Canoe Brook Country Club beginning at 6:00 pm. The event will honor SAGE&rsquo\;s community partner\, Summit Area Public Foundation\, corporate partner\, Celgene and volunteer honoree\, Al Kessler. The evening benefits SAGE Eldercare\, a unique community resource that offers a comprehensive array of programs and services for older adults and caregivers\, promoting independence and quality of life. .&nbsp\;
LOCATION:Canoe Brook Country Club
UID:e.870.14488
SEQUENCE:3
DTSTAMP:20260421T010328Z
URL:https://business.suburbanchambers.org/events/details/sage-to-host-age-out-loud-benefit-14488
END:VEVENT

END:VCALENDAR
