BEGIN:VCALENDAR
VERSION:2.0
PRODID:-//ChamberMaster//Event Calendar 2.0//EN
METHOD:PUBLISH
X-PUBLISHED-TTL:P3D
REFRESH-INTERVAL:P3D
CALSCALE:GREGORIAN
BEGIN:VEVENT
DTSTART:20220611T130000Z
DTEND:20220611T190000Z
X-MICROSOFT-CDO-ALLDAYEVENT:FALSE
SUMMARY:Rummage Sale
DESCRIPTION:Jewelry\, Clothes\, Knick-Knacks\, Toys\, and much more! All proceeds go to support Hickory Tree Chorus. Come and have fun shopping for treasures!
X-ALT-DESC;FMTTYPE=text/html:Jewelry\, Clothes\, Knick-Knacks\, Toys\, and much more! All proceeds go to support Hickory Tree Chorus. Come and have fun shopping for treasures!
LOCATION:Long Hill Senior Center\, 769 Valley Road\, Gillette\, NJ
UID:e.870.17581
SEQUENCE:3
DTSTAMP:20260422T183827Z
URL:https://business.suburbanchambers.org/events/details/rummage-sale-17581
END:VEVENT

END:VCALENDAR
