BEGIN:VCALENDAR
VERSION:2.0
PRODID:-//ChamberMaster//Event Calendar 2.0//EN
METHOD:PUBLISH
X-PUBLISHED-TTL:P3D
REFRESH-INTERVAL:P3D
CALSCALE:GREGORIAN
BEGIN:VEVENT
DTSTART:20190305T143000Z
DTEND:20190305T163000Z
X-MICROSOFT-CDO-ALLDAYEVENT:FALSE
SUMMARY:Research On The Homeless
DESCRIPTION:Rabbi Charles Kroloff \,Rabbi Emeritus Temple Emanu-El Westfield\, NJ and Professor at Hebrew Union College\, New York. will speak about his research and his book on the homeless population\, 'When Elijah Knocks' ( A Religious Response to Homelessness) and also about "I Have a Dream" project to help underprivileged children. Guests are welcome.
X-ALT-DESC;FMTTYPE=text/html:Rabbi Charles Kroloff \,Rabbi Emeritus Temple Emanu-El Westfield\, NJ and Professor at Hebrew Union College\, New York. will speak about his research and his book on the homeless population\, &lsquo\;When Elijah Knocks&rsquo\; ( A Religious Response to Homelessness) and also about &quot\;I Have a Dream&rdquo\; project to help underprivileged children. Guests are welcome.
LOCATION:New Providence Municipal Building
UID:e.870.15275
SEQUENCE:3
DTSTAMP:20260420T041846Z
URL:https://business.suburbanchambers.org/events/details/research-on-the-homeless-15275
END:VEVENT

END:VCALENDAR
