BEGIN:VCALENDAR
VERSION:2.0
PRODID:-//ChamberMaster//Event Calendar 2.0//EN
METHOD:PUBLISH
X-PUBLISHED-TTL:P3D
REFRESH-INTERVAL:P3D
CALSCALE:GREGORIAN
BEGIN:VEVENT
DTSTART:20181211T150000Z
DTEND:20181211T163000Z
X-MICROSOFT-CDO-ALLDAYEVENT:FALSE
SUMMARY:Remembering Pearl Harbor
DESCRIPTION:Herb Waddell\, Old Guard Member\, will reminisce about his personal memories of life in America in 1941 recalling the terrible shock our nation suffered from the infamous Japanese attack on Pearl Harbor. The causes and results of the attack will be discussed to illustrate how Pearl Harbor was truly a watershed event in our history.
X-ALT-DESC;FMTTYPE=text/html:Herb Waddell\, Old Guard Member\, will reminisce about his personal memories of life in America in 1941 recalling the terrible shock our nation suffered from the infamous Japanese attack on Pearl Harbor. The causes and results of the attack will be discussed to illustrate how Pearl Harbor was truly a watershed event in our history.
LOCATION:New Providence Boro Hall
UID:e.870.14620
SEQUENCE:3
DTSTAMP:20260420T142408Z
URL:https://business.suburbanchambers.org/events/details/remembering-pearl-harbor-14620
END:VEVENT

END:VCALENDAR
