BEGIN:VCALENDAR
VERSION:2.0
PRODID:-//ChamberMaster//Event Calendar 2.0//EN
METHOD:PUBLISH
X-PUBLISHED-TTL:P3D
REFRESH-INTERVAL:P3D
CALSCALE:GREGORIAN
BEGIN:VEVENT
DTSTART;VALUE=DATE:20180514
DTEND;VALUE=DATE:20180515
TRANSP:TRANSPARENT
X-MICROSOFT-CDO-ALLDAYEVENT:TRUE
SUMMARY:Registration Opens May 1st 2018\; Passion for Spices™ 9th Annual Kids / Teen Summer Cooking Camp
DESCRIPTION:Passion for Spices 9th Annual Kids / Teen Summer Cooking Camp\nCalling all kids and teens for three weeks of crazy\, delicious food experimenting\, all the while learning how to cook your favorite foods entirely from scratch and with quality ingredients. All week you'll get a hands-on experience and cover fundamentals of food as a science under the guidance of world class chefs!\n\nOur camps are for anyone between the ages:\n\n3 - 11 years old (Our Hands-On Junior Camp)\n\n12 - Teen (Our Advanced Hands-On Teen Camp)
X-ALT-DESC;FMTTYPE=text/html:<h1><span style="color:#B22222">Passion for Spices&nbsp\;9th Annual Kids / Teen Summer Cooking Camp</span></h1>\n<span style="background-color:rgb(255\, 254\, 248)\; color:rgb(59\, 59\, 59)\; font-family:merriweather\; font-size:14px">Calling all kids and teens for three weeks of crazy\, delicious food experimenting\, all the while learning how to cook your favorite foods entirely from scratch and with quality ingredients. All week you'll get a hands-on experience and cover fundamentals of food as a science under the guidance of world class chefs!</span><br>\n<span style="background-color:rgb(255\, 254\, 248)\; color:rgb(59\, 59\, 59)\; font-family:merriweather\; font-size:14px">Our camps are for anyone between the ages:</span><br>\n<span style="background-color:rgb(255\, 254\, 248)\; color:rgb(59\, 59\, 59)\; font-family:merriweather\; font-size:14px">3 - 11 years old (Our Hands-On Junior Camp)</span><br>\n<span style="background-color:rgb(255\, 254\, 248)\; color:rgb(59\, 59\, 59)\; font-family:merriweather\; font-size:14px">12 - Teen (Our Advanced Hands-On Teen Camp)</span><br>\n&nbsp\;
LOCATION:Calvary Church 31 Woodland Ave Summit\, NJ 07901
UID:e.870.11807
SEQUENCE:3
DTSTAMP:20260421T131157Z
URL:https://business.suburbanchambers.org/events/details/registration-opens-may-1st-2018-passion-for-spices-9th-annual-kids-teen-summer-cooking-camp-11807
END:VEVENT

END:VCALENDAR
