BEGIN:VCALENDAR
VERSION:2.0
PRODID:-//ChamberMaster//Event Calendar 2.0//EN
METHOD:PUBLISH
X-PUBLISHED-TTL:P3D
REFRESH-INTERVAL:P3D
CALSCALE:GREGORIAN
BEGIN:VEVENT
DTSTART;VALUE=DATE:20180907
DTEND;VALUE=DATE:20180908
TRANSP:TRANSPARENT
X-MICROSOFT-CDO-ALLDAYEVENT:TRUE
SUMMARY:Register for Fall classes at The Connection
DESCRIPTION:8:30 am online\, in person at 9:30am.  Classes start Sept 4. Parent/Child\, Preschool and School Age classes for girls and boys in Swimming\, Youth Fitness\, S.T.E.A.M.\, Warrior Challenges\, Karate\, Art\, Dance\, Gymnastics\, Cooking plus Adult Fitness\, Dance and Swim. Sign up as a Total Facility Member anytime and have unlimited access to all adult classes! To view our schedule of classes go to www.TheConnectionOnline.org \, call 908.273.4242 or stop by 79 Maple St.\, Summit
X-ALT-DESC;FMTTYPE=text/html:<span style="font-size:12px"><span style="font-family:times new roman\,serif">8:30 am online\, in person at </span></span><span style="font-family:times new roman\,serif"><span style="font-size:12.0pt"><span style="font-size:12px">9:30am.</span></span></span><span style="font-size:12px"><span style="font-family:times new roman\,serif">&nbsp\; </span>Classes start Sept 4</span><span style="font-size:10px">.</span><span style="font-size:12px">&nbsp\;Parent/Child\, Preschool and School Age classes for girls and boys in Swimming\, Youth Fitness\, S.T.E.A.M.\, Warrior Challenges\, Karate\, Art\, Dance\, Gymnastics\, Cooking plus Adult Fitness\, Dance </span><span style="font-size:12px"><span>and</span></span><span style="font-size:12px"> Swim. Sign up as a Total Facility Member anytime and have unlimited access to all adult classes! <span style="font-family:times new roman\,serif">To view our schedule of classes go to </span></span><span style="font-family:times new roman\,serif"><span style="font-size:12.0pt"><span style="font-size:12px">www.TheConnectionOnline.org \,</span></span></span><span style="font-size:12px"><span style="font-family:times new roman\,serif"> call 908.273.4242 or stop by 79 Maple St.\, Summit</span></span>
LOCATION:The Connection\, 79 Maple St. Summit\, NJ 07901
UID:e.870.14342
SEQUENCE:3
DTSTAMP:20260421T040422Z
URL:https://business.suburbanchambers.org/events/details/register-for-fall-classes-at-the-connection-09-07-2018-14342
END:VEVENT

END:VCALENDAR
