BEGIN:VCALENDAR
VERSION:2.0
PRODID:-//ChamberMaster//Event Calendar 2.0//EN
METHOD:PUBLISH
X-PUBLISHED-TTL:P3D
REFRESH-INTERVAL:P3D
CALSCALE:GREGORIAN
BEGIN:VEVENT
DTSTART:20180523T130000Z
DTEND:20180523T210000Z
X-MICROSOFT-CDO-ALLDAYEVENT:FALSE
SUMMARY:Reeves-Reed Arboretum Plant Sale
DESCRIPTION:The 2018 Reeves-Reed Arboretum plant sale is on the way\, and frankly\, we can't wait! This year\, we're featuring an outstanding collection of plants selected for native lovers and shade gardeners\, in addition to our usual eclectic mix of hard-to-find perennials and annuals. This year's plant sale will be held on Friday\, May 18\, between 2:00 pm and 5:00 pm\, for RRA members only. On Saturday\, May 19\, the plant sale opens to the general public between 9:00 am and 2:00 pm.
X-ALT-DESC;FMTTYPE=text/html:The 2018 Reeves-Reed Arboretum plant sale is on the way\, and frankly\, we can&#39\;t wait! This year\, we&#39\;re featuring an outstanding collection of plants selected for native lovers and shade gardeners\, in addition to our usual eclectic mix of hard-to-find perennials and annuals. This year&#39\;s plant sale will be held on Friday\, May 18\, between 2:00 pm and 5:00 pm\, for RRA members only. On Saturday\, May 19\, the plant sale opens to the general public between 9:00 am and 2:00 pm.&nbsp\;
LOCATION:Reeves-Reed Arboretum 165 Hobart Ave. Summit\, NJ 07901
UID:e.870.11880
SEQUENCE:3
DTSTAMP:20260421T133856Z
URL:https://business.suburbanchambers.org/events/details/reeves-reed-arboretum-plant-sale-05-23-2018-11880
END:VEVENT

END:VCALENDAR
