BEGIN:VCALENDAR
VERSION:2.0
PRODID:-//ChamberMaster//Event Calendar 2.0//EN
METHOD:PUBLISH
X-PUBLISHED-TTL:P3D
REFRESH-INTERVAL:P3D
CALSCALE:GREGORIAN
BEGIN:VEVENT
DTSTART:20190514T230000Z
DTEND:20190515T000000Z
X-MICROSOFT-CDO-ALLDAYEVENT:FALSE
SUMMARY:RBdigital Magazines Demo
DESCRIPTION:Lisa Kurucz of RBdigital Magazines will demonstrate how to read the latest issues of dozens of popular magazines on your tablet or PC. RBdigital magazines is free with a New Providence library card.
X-ALT-DESC;FMTTYPE=text/html:Lisa Kurucz of RBdigital Magazines will demonstrate how to read the latest issues of dozens of popular magazines on your tablet or PC. RBdigital magazines is free with a New Providence library card.
LOCATION:New Providence Memorial Library
UID:e.870.15416
SEQUENCE:3
DTSTAMP:20260419T190802Z
URL:https://business.suburbanchambers.org/events/details/rbdigital-magazines-demo-15416
END:VEVENT

END:VCALENDAR
