BEGIN:VCALENDAR
VERSION:2.0
PRODID:-//ChamberMaster//Event Calendar 2.0//EN
METHOD:PUBLISH
X-PUBLISHED-TTL:P3D
REFRESH-INTERVAL:P3D
CALSCALE:GREGORIAN
BEGIN:VEVENT
DTSTART:20181019T173000Z
DTEND:20181019T190000Z
X-MICROSOFT-CDO-ALLDAYEVENT:FALSE
SUMMARY:Putting Your Garden to Bed - The Honey Dew List (Adults) at Reeves-Reed Arboretum
DESCRIPTION:Did you miss your window to reseed the lawn last fall? Forget to harvest those Butterfly Weed seeds? Did your vegetables get hit by an early frost before your last harvest? Get organized and prepared this fall and learn all the things that will get your garden ready for winter and give you a head start on spring! Join Lead Horticulturist Julieanne Frascinella and Environmental Educator Althea Llewellyn as we help you make sense out of a busy and daunting gardening season! :
X-ALT-DESC;FMTTYPE=text/html:Did you miss your window to reseed the lawn last fall? Forget to harvest those Butterfly Weed seeds? Did your vegetables get hit by an early frost before your last harvest? Get organized and prepared this fall and learn all the things that will get your garden ready for winter and give you a head start on spring! Join Lead Horticulturist Julieanne Frascinella and Environmental Educator Althea Llewellyn as we help you make sense out of a busy and daunting gardening season! :&nbsp\;
LOCATION:Reeves-Reed Arboretum 165 Hobart Ave. Summit\, NJ 07901
UID:e.870.14391
SEQUENCE:3
DTSTAMP:20260420T221814Z
URL:https://business.suburbanchambers.org/events/details/putting-your-garden-to-bed-the-honey-dew-list-adults-at-reeves-reed-arboretum-14391
END:VEVENT

END:VCALENDAR
