BEGIN:VCALENDAR
VERSION:2.0
PRODID:-//ChamberMaster//Event Calendar 2.0//EN
METHOD:PUBLISH
X-PUBLISHED-TTL:P3D
REFRESH-INTERVAL:P3D
CALSCALE:GREGORIAN
BEGIN:VEVENT
DTSTART:20180926T173000Z
DTEND:20180926T190000Z
X-MICROSOFT-CDO-ALLDAYEVENT:FALSE
SUMMARY:Putting Your Garden to Bed - Horticultural Techniques (Adults) at Reeves-Reed Arboretum
DESCRIPTION:You know what you're doing\, you know why you're doing it\, you even know when to do it\, but the question we'll address today is how! Planting bulbs this October? Cleaning up leaves? Cutting down perennials or overwintering tropicals? Well\, there's more than one way to verb a noun. Come discover and share all the different ways to garden this fall! Registration is required.
X-ALT-DESC;FMTTYPE=text/html:You know what you&#39\;re doing\, you know why you&#39\;re doing it\, you even know when to do it\, but the question we&#39\;ll address today is how! Planting bulbs this October? Cleaning up leaves? Cutting down perennials or overwintering tropicals? Well\, there&#39\;s more than one way to verb a noun. Come discover and share all the different ways to garden this fall! Registration is required.&nbsp\;
LOCATION:Reeves-Reed Arboretum\, 165 Hobart Ave.\, Summit\, NJ 07901
UID:e.870.14392
SEQUENCE:3
DTSTAMP:20260421T011521Z
URL:https://business.suburbanchambers.org/events/details/putting-your-garden-to-bed-horticultural-techniques-adults-at-reeves-reed-arboretum-14392
END:VEVENT

END:VCALENDAR
