BEGIN:VCALENDAR
VERSION:2.0
PRODID:-//ChamberMaster//Event Calendar 2.0//EN
METHOD:PUBLISH
X-PUBLISHED-TTL:P3D
REFRESH-INTERVAL:P3D
CALSCALE:GREGORIAN
BEGIN:VEVENT
DTSTART:20180912T173000Z
DTEND:20180912T190000Z
X-MICROSOFT-CDO-ALLDAYEVENT:FALSE
SUMMARY:Putting Your Garden to Bed - A Gardener's Philosophy (Adults) at Reeves-Reed Arboretum
DESCRIPTION:Are you a wild\, messy gardener and delight in watching all the critters flitting about on a snowy January evening? Do you find a neat and tidy garden soothing to the eye in winter? Join Lead Horticulturist Julieanne Frascinella in discussing the different reasons why gardeners do what they do\, and the many pros and cons of each philosophy and approach to gardening. Find out who you are as a gardener\, and possibly who you want to be! Registration is required. The next session (3/4) in this series\, "The Honey Dew List" is scheduled for September 19.
X-ALT-DESC;FMTTYPE=text/html:Are you a wild\, messy gardener and delight in watching all the critters flitting about on a snowy January evening? Do you find a neat and tidy garden soothing to the eye in winter? Join Lead Horticulturist Julieanne Frascinella in discussing the different reasons why gardeners do what they do\, and the many pros and cons of each philosophy and approach to gardening. Find out who you are as a gardener\, and possibly who you want to be! Registration is required. The next session (3/4) in this series\, &quot\;The Honey Dew List&quot\; is scheduled for September 19.&nbsp\;
LOCATION:Reeves-Reed Arboretum 165 Hobart Ave. Summit\, NJ 07901
UID:e.870.14390
SEQUENCE:3
DTSTAMP:20260421T011810Z
URL:https://business.suburbanchambers.org/events/details/putting-your-garden-to-bed-a-gardener-s-philosophy-adults-at-reeves-reed-arboretum-14390
END:VEVENT

END:VCALENDAR
