BEGIN:VCALENDAR
VERSION:2.0
PRODID:-//ChamberMaster//Event Calendar 2.0//EN
METHOD:PUBLISH
X-PUBLISHED-TTL:P3D
REFRESH-INTERVAL:P3D
CALSCALE:GREGORIAN
BEGIN:VEVENT
DTSTART:20180427T220000Z
DTEND:20180428T013000Z
X-MICROSOFT-CDO-ALLDAYEVENT:FALSE
SUMMARY:Put the 'Pub' in Public Garden: Italian Wine Tasting & Nonna-Style Italian Hors D'Oeuvres at Reeves-Reed Arboretum
DESCRIPTION:Enjoy fine wines from Tenuta Torciano of San Gimignano\, Italy! Sample select vintages\, showcasing the range and styles from throughout Tuscany. The winery uses Tuscan traditions that have been handed down through 13 generations of winemakers. The Tenuta Torciano wine cellar has evolved over the years and the family's passion has created amazing wines in the heart of Tuscany. Hors d'oeuvres will be prepared by Italian Nonna\, Rosaria Dablis Vigorito. Grandma's sampling of Italian antipasti and wonderfully prepared hors d'oeuvres will be served for you to enjoy. Encouraged by her Nonna\, Rosaria fell in love with cooking at age 7. The eldest of five children\, she nurtured her siblings by preparing a variety of dishes. She was featured on NPR's OnPoint and at Enoteca Maria Trattoria. And savor the award-winning Nicky Meatballs and tiramisu courtesy of Manhattan-based restauranteur\, Nick Mormando\, and his Upper West Side restaurant\, Polpette 71.
X-ALT-DESC;FMTTYPE=text/html:Enjoy fine wines from Tenuta Torciano of San Gimignano\, Italy! Sample select vintages\, showcasing the range and styles from throughout Tuscany. The winery uses Tuscan traditions that have been handed down through 13 generations of winemakers. The Tenuta Torciano wine cellar has evolved over the years and the family&#39\;s passion has created amazing wines in the heart of Tuscany. Hors d&#39\;oeuvres will be prepared by Italian Nonna\, Rosaria Dablis Vigorito. Grandma&#39\;s sampling of Italian antipasti and wonderfully prepared hors d&#39\;oeuvres will be served for you to enjoy. Encouraged by her Nonna\, Rosaria fell in love with cooking at age 7. The eldest of five children\, she nurtured her siblings by preparing a variety of dishes. She was featured on NPR&#39\;s OnPoint and at Enoteca Maria Trattoria. And savor the award-winning Nicky Meatballs and tiramisu courtesy of Manhattan-based restauranteur\, Nick Mormando\, and his Upper West Side restaurant\, Polpette 71.&nbsp\;
LOCATION:Reeves-Reed Arboretum 165 Hobart Ave. Summit\, NJ 07901
UID:e.870.11775
SEQUENCE:3
DTSTAMP:20260421T161357Z
URL:https://business.suburbanchambers.org/events/details/put-the-pub-in-public-garden-italian-wine-tasting-nonna-style-italian-hors-d-oeuvres-at-reeves-reed-arboretum-11775
END:VEVENT

END:VCALENDAR
