BEGIN:VCALENDAR
VERSION:2.0
PRODID:-//ChamberMaster//Event Calendar 2.0//EN
METHOD:PUBLISH
X-PUBLISHED-TTL:P3D
REFRESH-INTERVAL:P3D
CALSCALE:GREGORIAN
BEGIN:VEVENT
DTSTART:20190519T190000Z
DTEND:20190519T200000Z
X-MICROSOFT-CDO-ALLDAYEVENT:FALSE
SUMMARY:Public Art in New Providence
DESCRIPTION:Sculptor Bob Hill will speak about his sculptures that have been installed by the Public Art committee around New Providence. Weather permitting\, this event may include a walking tour across the street to borough hall.
X-ALT-DESC;FMTTYPE=text/html:Sculptor Bob Hill will speak about his sculptures that have been installed by the Public Art committee around New Providence. Weather permitting\, this event may include a walking tour across the street to borough hall.
LOCATION:New Providence Memorial Library
UID:e.870.15417
SEQUENCE:3
DTSTAMP:20260419T192004Z
URL:https://business.suburbanchambers.org/events/details/public-art-in-new-providence-15417
END:VEVENT

END:VCALENDAR
