BEGIN:VCALENDAR
VERSION:2.0
PRODID:-//ChamberMaster//Event Calendar 2.0//EN
METHOD:PUBLISH
X-PUBLISHED-TTL:P3D
REFRESH-INTERVAL:P3D
CALSCALE:GREGORIAN
BEGIN:VEVENT
DTSTART:20190303T190000Z
DTEND:20190303T210000Z
X-MICROSOFT-CDO-ALLDAYEVENT:FALSE
SUMMARY:Psychodrama
DESCRIPTION:Welcome to the weekly divorce group\, held in the basement of the Unitarian church. The members are suddenly left stranded when Mitchell\, their leader\, leaves halfway through. Luckily\, Barb has agreed to be the new group leader. Her unorthodox methods throw them all for a loop\, but they eventually find that being off balance just might be the way to break through to a new understanding of their relationships.
X-ALT-DESC;FMTTYPE=text/html:Welcome to the weekly divorce group\, held in the basement of the Unitarian church. The members are suddenly left stranded when Mitchell\, their leader\, leaves halfway through. Luckily\, Barb has agreed to be the new group leader. Her unorthodox methods throw them all for a loop\, but they eventually find that being off balance just might be the way to break through to a new understanding of their relationships.
LOCATION:Dreamcatcher Repertory Theatre Oakes Center 120 Morris Avenue Summit\, NJ
UID:e.870.14463
SEQUENCE:3
DTSTAMP:20260420T041846Z
URL:https://business.suburbanchambers.org/events/details/psychodrama-03-03-2019-14463
END:VEVENT

END:VCALENDAR
