BEGIN:VCALENDAR
VERSION:2.0
PRODID:-//ChamberMaster//Event Calendar 2.0//EN
METHOD:PUBLISH
X-PUBLISHED-TTL:P3D
REFRESH-INTERVAL:P3D
CALSCALE:GREGORIAN
BEGIN:VEVENT
DTSTART;VALUE=DATE:20190501
DTEND;VALUE=DATE:20190502
TRANSP:TRANSPARENT
X-MICROSOFT-CDO-ALLDAYEVENT:TRUE
SUMMARY:Preschool Registration at The Connection
DESCRIPTION:A Certified Preschool at The Connection for ages 3-5 with flexible hours to suit any schedule. Visit our beautiful preschool classroom to see for yourself-learning and discovery takes place here on a daily basis. Go to www.TheConnectionOnline.org  call 908-273-4242\, or visit
X-ALT-DESC;FMTTYPE=text/html:A Certified Preschool at The Connection for ages 3-5 with flexible hours to suit any schedule. Visit our beautiful preschool classroom to see for yourself-learning and discovery takes place here on a daily basis. Go to<strong> <a href="http://www.theconnectiononline.org/">www.TheConnectionOnline.org</a> &nbsp\;</strong>call 908-273-4242\, or visit
LOCATION:The Connection\, 79 Maple St.\, Summit NJ 07901
UID:e.870.15260
SEQUENCE:3
DTSTAMP:20260419T192039Z
URL:https://business.suburbanchambers.org/events/details/preschool-registration-at-the-connection-05-01-2019-15260
END:VEVENT

END:VCALENDAR
