BEGIN:VCALENDAR
VERSION:2.0
PRODID:-//ChamberMaster//Event Calendar 2.0//EN
METHOD:PUBLISH
X-PUBLISHED-TTL:P3D
REFRESH-INTERVAL:P3D
CALSCALE:GREGORIAN
BEGIN:VEVENT
DTSTART:20190414T180000Z
DTEND:20190414T200000Z
X-MICROSOFT-CDO-ALLDAYEVENT:FALSE
SUMMARY:Poetry Reading & Open Mic
DESCRIPTION:Join us for a poetry reading and open mic event at the New Providence Memorial Library. Featured Poets include: Sondra Gash\, Nancy Gerber\, Deborah Gerrish\, Deborah LaVeglia\, Diane Lockward\, Bob Rosenbloom and Christine Redman-Waldeyer. Open mic readings to follow featured guest poets. Sign up at the event to read your own works.
X-ALT-DESC;FMTTYPE=text/html:Join us for a poetry reading and open mic event at the New Providence Memorial Library. Featured Poets include: Sondra Gash\, Nancy Gerber\, Deborah Gerrish\, Deborah LaVeglia\, Diane Lockward\, Bob Rosenbloom and Christine Redman-Waldeyer. Open mic readings to follow featured guest poets. Sign up at the event to read your own works.
LOCATION:New Providence Memorial Library
UID:e.870.15359
SEQUENCE:3
DTSTAMP:20260419T231948Z
URL:https://business.suburbanchambers.org/events/details/poetry-reading-open-mic-15359
END:VEVENT

END:VCALENDAR
