BEGIN:VCALENDAR
VERSION:2.0
PRODID:-//ChamberMaster//Event Calendar 2.0//EN
METHOD:PUBLISH
X-PUBLISHED-TTL:P3D
REFRESH-INTERVAL:P3D
CALSCALE:GREGORIAN
BEGIN:VEVENT
DTSTART:20190428T190000Z
DTEND:20190428T210000Z
X-MICROSOFT-CDO-ALLDAYEVENT:FALSE
SUMMARY:Pirates of Penzance
DESCRIPTION:The Light Opera of NJ will perform an abridged version of Gilbert and Sullivan's comic opera\, "Pirates of Penzance." Free. This program was funded by the Friends of the New Providence Memorial Library.
X-ALT-DESC;FMTTYPE=text/html:The Light Opera of NJ will perform an abridged version of Gilbert and Sullivan&rsquo\;s comic opera\, &ldquo\;Pirates of Penzance.&rdquo\; Free. This program was funded by the Friends of the New Providence Memorial Library.
LOCATION:New Providence Memorial Library
UID:e.870.15365
SEQUENCE:3
DTSTAMP:20260420T040020Z
URL:https://business.suburbanchambers.org/events/details/pirates-of-penzance-15365
END:VEVENT

END:VCALENDAR
