BEGIN:VCALENDAR
VERSION:2.0
PRODID:-//ChamberMaster//Event Calendar 2.0//EN
METHOD:PUBLISH
X-PUBLISHED-TTL:P3D
REFRESH-INTERVAL:P3D
CALSCALE:GREGORIAN
BEGIN:VEVENT
DTSTART:20181026T160000Z
DTEND:20181026T190000Z
X-MICROSOFT-CDO-ALLDAYEVENT:FALSE
SUMMARY:Pickleball at Summit YMCA
DESCRIPTION:Indoor pickleball at Summit YMCA 3 courts Beginner\, intermediate & advanced levels. Please call to get exact schedules and times
X-ALT-DESC;FMTTYPE=text/html:Indoor pickleball at Summit YMCA 3 courts Beginner\, intermediate &amp\; advanced levels. Please call to get exact schedules and times
LOCATION:Summit YMCA 67 Maple Street Summit NJ
UID:e.870.14200
SEQUENCE:3
DTSTAMP:20260420T220148Z
URL:https://business.suburbanchambers.org/events/details/pickleball-at-summit-ymca-10-26-2018-14200
END:VEVENT

END:VCALENDAR
