BEGIN:VCALENDAR
VERSION:2.0
PRODID:-//ChamberMaster//Event Calendar 2.0//EN
METHOD:PUBLISH
X-PUBLISHED-TTL:P3D
REFRESH-INTERVAL:P3D
CALSCALE:GREGORIAN
BEGIN:VEVENT
DTSTART:20190329T233000Z
DTEND:20190330T023000Z
X-MICROSOFT-CDO-ALLDAYEVENT:FALSE
SUMMARY:Phil Ochs Song Night at the Minstrel
DESCRIPTION:An all-star cast consisting of Greg Greenway\, Reggie Harris\, Tom Prasada-Rao\, & Pat Wictor will perform the songs of Phil Ochs. Phil was one of the seminal figures of the 60's Folk movement and penned dozens of classics that live today in the hearts of fans and performers alike. The evening will be hosted by Phil's sister\, Sonny Ochs\, who is still an active figure in the folk community. The performers will also include some of their own songs\, and Sonny will add historical and biographical notes to put these songs in the context of the era and the times. Free parking\; wheelchair accessible.
X-ALT-DESC;FMTTYPE=text/html:An all-star cast consisting of Greg Greenway\, Reggie Harris\, Tom Prasada-Rao\, &amp\; Pat Wictor will perform the songs of Phil Ochs. Phil was one of the seminal figures of the 60&#39\;s Folk movement and penned dozens of classics that live today in the hearts of fans and performers alike. The evening will be hosted by Phil&#39\;s sister\, Sonny Ochs\, who is still an active figure in the folk community. The performers will also include some of their own songs\, and Sonny will add historical and biographical notes to put these songs in the context of the era and the times. Free parking\; wheelchair accessible.
LOCATION:Morristown Unitarian Fellowship 21 Normandy Heights Road Morristown\, NJ 07960
UID:e.870.15299
SEQUENCE:3
DTSTAMP:20260420T081040Z
URL:https://business.suburbanchambers.org/events/details/phil-ochs-song-night-at-the-minstrel-15299
END:VEVENT

END:VCALENDAR
