BEGIN:VCALENDAR
VERSION:2.0
PRODID:-//ChamberMaster//Event Calendar 2.0//EN
METHOD:PUBLISH
X-PUBLISHED-TTL:P3D
REFRESH-INTERVAL:P3D
CALSCALE:GREGORIAN
BEGIN:VEVENT
DTSTART:20190223T140000Z
DTEND:20190223T160000Z
X-MICROSOFT-CDO-ALLDAYEVENT:FALSE
SUMMARY:Pet Therapy Evaluation
DESCRIPTION:Give Your Pet a Great Job! Is your pet calm and friendly? Loves meeting strangers? Volunteer with your pet to visit hospitals\, nursing homes\, schools\, shelters and special needs programs and bring healing comfort to others. To become a certified pet therapy team with Creature Comfort Pet Therapy\, you and your pet must pass a test that evaluates obedience and temperament. You MUST fill out a volunteer application BEFORE the test date and pre-register.
X-ALT-DESC;FMTTYPE=text/html:Give Your Pet a Great Job! Is your pet calm and friendly? Loves meeting strangers? Volunteer with your pet to visit hospitals\, nursing homes\, schools\, shelters and special needs programs and bring healing comfort to others. To become a certified pet therapy team with Creature Comfort Pet Therapy\, you and your pet must pass a test that evaluates obedience and temperament. You MUST fill out a volunteer application BEFORE the test date and pre-register.
LOCATION:Rockaway
UID:e.870.15311
SEQUENCE:3
DTSTAMP:20260420T075432Z
URL:https://business.suburbanchambers.org/events/details/pet-therapy-evaluation-15311
END:VEVENT

END:VCALENDAR
