BEGIN:VCALENDAR
VERSION:2.0
PRODID:-//ChamberMaster//Event Calendar 2.0//EN
METHOD:PUBLISH
X-PUBLISHED-TTL:P3D
REFRESH-INTERVAL:P3D
CALSCALE:GREGORIAN
BEGIN:VEVENT
DTSTART:20181215T203000Z
DTEND:20181215T220000Z
X-MICROSOFT-CDO-ALLDAYEVENT:FALSE
SUMMARY:Peace on Earth: Renaissance Church Christmas Concert
DESCRIPTION:A "must-see" event in the community\, the Renaissance Church Christmas Concert will wow you and get you in the spirit of Christmas like never before! The extraordinary concert includes performances by the rock and pop band of Renaissance Church\, all local and New York City performing artists. Each concert includes dramatic elements and performances of classic Christmas songs re-done in the Renaissance Church-style. For tickets and more information: renchurch.com/christmas
X-ALT-DESC;FMTTYPE=text/html:A &ldquo\;must-see&rdquo\; event in the community\, the Renaissance Church Christmas Concert will wow you and get you in the spirit of Christmas like never before! The extraordinary concert includes performances by the rock and pop band of Renaissance Church\, all local and New York City performing artists. Each concert includes dramatic elements and performances of classic Christmas songs re-done in the Renaissance Church-style. For tickets and more information: renchurch.com/christmas
LOCATION:Renaissance Church\, 2 Kent Place Blvd\, Summit
UID:e.870.14856
SEQUENCE:3
DTSTAMP:20260420T153814Z
URL:https://business.suburbanchambers.org/events/details/peace-on-earth-renaissance-church-christmas-concert-12-15-2018-14856
END:VEVENT

END:VCALENDAR
