BEGIN:VCALENDAR
VERSION:2.0
PRODID:-//ChamberMaster//Event Calendar 2.0//EN
METHOD:PUBLISH
X-PUBLISHED-TTL:P3D
REFRESH-INTERVAL:P3D
CALSCALE:GREGORIAN
BEGIN:VEVENT
DTSTART:20220906T130000Z
DTEND:20220907T020000Z
X-MICROSOFT-CDO-ALLDAYEVENT:FALSE
SUMMARY:Paws and Soles Labor of Love Virtual 5K
DESCRIPTION:Please join us for our 2nd Annual Paws & Soles Labor of Love Virtual 5k hosted by Friends of Somerset Regional Animal Shelter. Between Sept. 6\, 2021 (Labor Day) and Nov. 25\, 2021 (Thanksgiving)\, we challenge our community - near and far - to walk or run a 5K with us while raising our goal of $25\,000. Sounds like a lot but we know with your help\, we can do it! Don't forget to bring your favorite pup(s) with you! All event proceeds directly benefit the animals of the Somerset Regional Animal Shelter. Monies predominantly go toward the Cupid Fund\, a fund reserved for animals in need of more complex medical treatment than what an average shelter can typically provide. Please consider joining us virtually so we are able to provide veterinary care prior to placing them into loving and caring homes.
X-ALT-DESC;FMTTYPE=text/html:Please join us for our 2nd Annual Paws &amp\; Soles Labor of Love Virtual 5k hosted by Friends of Somerset Regional Animal Shelter. Between Sept. 6\, 2021 (Labor Day) and Nov. 25\, 2021 (Thanksgiving)\, we challenge our community - near and far - to walk or run a 5K with us while raising our goal of $25\,000. Sounds like a lot but we know with your help\, we can do it! Don&#39\;t forget to bring your favorite pup(s) with you! All event proceeds directly benefit the animals of the Somerset Regional Animal Shelter. Monies predominantly go toward the Cupid Fund\, a fund reserved for animals in need of more complex medical treatment than what an average shelter can typically provide. Please consider joining us virtually so we are able to provide veterinary care prior to placing them into loving and caring homes.
LOCATION:We're Virtual!
UID:e.870.17423
SEQUENCE:3
DTSTAMP:20260422T093133Z
URL:https://business.suburbanchambers.org/events/details/paws-and-soles-labor-of-love-virtual-5k-09-06-2022-17423
END:VEVENT

END:VCALENDAR
