BEGIN:VCALENDAR
VERSION:2.0
PRODID:-//ChamberMaster//Event Calendar 2.0//EN
METHOD:PUBLISH
X-PUBLISHED-TTL:P3D
REFRESH-INTERVAL:P3D
CALSCALE:GREGORIAN
BEGIN:VEVENT
DTSTART:20190207T233000Z
DTEND:20190208T013000Z
X-MICROSOFT-CDO-ALLDAYEVENT:FALSE
SUMMARY:Parent Discovery Night and Project XOXO
DESCRIPTION:Join Us for Parent Discovery Night- come and see how we are helping kids who are struggling with learning difficulties really turn things around! Completely drug-free\, integrated approach to building function in children! Be a part of Brain Balance's Project XOXO and give back to families in need at our local family shelters! Bring in some art supplies and receive $100 off our assessment fees!
X-ALT-DESC;FMTTYPE=text/html:Join Us for Parent Discovery Night- come and see how we are helping kids who are struggling with learning difficulties really turn things around! Completely drug-free\, integrated approach to building function in children! Be a part of Brain Balance&#39\;s Project XOXO and give back to families in need at our local family shelters! Bring in some art supplies and receive $100 off our assessment fees!
LOCATION:Brain Balance of Summit 33 Union Pl\, 2nd fl\, Summit NJ 07901
UID:e.870.15293
SEQUENCE:3
DTSTAMP:20260420T080432Z
URL:https://business.suburbanchambers.org/events/details/parent-discovery-night-and-project-xoxo-15293
END:VEVENT

END:VCALENDAR
