BEGIN:VCALENDAR
VERSION:2.0
PRODID:-//ChamberMaster//Event Calendar 2.0//EN
METHOD:PUBLISH
X-PUBLISHED-TTL:P3D
REFRESH-INTERVAL:P3D
CALSCALE:GREGORIAN
BEGIN:VEVENT
DTSTART:20190307T233000Z
DTEND:20190308T010000Z
X-MICROSOFT-CDO-ALLDAYEVENT:FALSE
SUMMARY:Parent Discovery Night
DESCRIPTION:**FREE EVENT** Brain Balance Center of Summit offers a drug-free\, whole-child approach to address the underlying issues in many of the behavioral and learning disorders that plague so many children today. There's hope for children who suffer from behavioral\, academic\, and social challenges! ! Join Brain Balance Center of Summit on THURSDAY\, MARCH 7TH @ 6:30pm for PARENT DISCOVERY NIGHT! Brain Balance of Summit is offering all attendees 50% off our regular priced assessments! Call for more information (908)517-1101 or email summit@brainbalancecenters.com. https://www.facebook.com/events/587776951686627/
X-ALT-DESC;FMTTYPE=text/html:**FREE EVENT** Brain Balance Center of Summit offers a drug-free\, whole-child approach to address the underlying issues in many of the behavioral and learning disorders that plague so many children today. There&#39\;s hope for children who suffer from behavioral\, academic\, and social challenges! ! Join Brain Balance Center of Summit on THURSDAY\, MARCH 7TH @ 6:30pm for PARENT DISCOVERY NIGHT! Brain Balance of Summit is offering all attendees 50% off our regular priced assessments! Call for more information (908)517-1101 or email summit@brainbalancecenters.com. https://www.facebook.com/events/587776951686627/
LOCATION:33 UNION PLACE\, 2ND FLOOR SUMMIT NJ 07052
UID:e.870.15368
SEQUENCE:3
DTSTAMP:20260420T074758Z
URL:https://business.suburbanchambers.org/events/details/parent-discovery-night-03-07-2019-15368
END:VEVENT

END:VCALENDAR
