BEGIN:VCALENDAR
VERSION:2.0
PRODID:-//ChamberMaster//Event Calendar 2.0//EN
METHOD:PUBLISH
X-PUBLISHED-TTL:P3D
REFRESH-INTERVAL:P3D
CALSCALE:GREGORIAN
BEGIN:VEVENT
DTSTART:20190414T143000Z
DTEND:20190414T153000Z
X-MICROSOFT-CDO-ALLDAYEVENT:FALSE
SUMMARY:Palm Sunday Service
DESCRIPTION:Join us as we celebrate Jesus' entry into Jerusalem-- the entry that unleashed a week of turmoil! 10:30 am in the Sanctuary
X-ALT-DESC;FMTTYPE=text/html:Join us as we celebrate Jesus&#39\; entry into Jerusalem-- the entry that unleashed a week of turmoil! 10:30 am in the Sanctuary
LOCATION:The United Methodist Church of Summit 17 Kent Place Boulevard Summit\, NJ 07901
UID:e.870.15410
SEQUENCE:3
DTSTAMP:20260420T040041Z
URL:https://business.suburbanchambers.org/events/details/palm-sunday-service-04-14-2019-15410
END:VEVENT

END:VCALENDAR
